BEGIN:VCALENDAR
VERSION:2.0
PRODID:-//United Sportswear Europe - ECPv6.15.18//NONSGML v1.0//EN
CALSCALE:GREGORIAN
METHOD:PUBLISH
X-WR-CALNAME:United Sportswear Europe
X-ORIGINAL-URL:https://unitedsportswear.eu
X-WR-CALDESC:Events for United Sportswear Europe
REFRESH-INTERVAL;VALUE=DURATION:PT1H
X-Robots-Tag:noindex
X-PUBLISHED-TTL:PT1H
BEGIN:VTIMEZONE
TZID:Europe/Brussels
BEGIN:DAYLIGHT
TZOFFSETFROM:+0100
TZOFFSETTO:+0200
TZNAME:CEST
DTSTART:20250330T010000
END:DAYLIGHT
BEGIN:STANDARD
TZOFFSETFROM:+0200
TZOFFSETTO:+0100
TZNAME:CET
DTSTART:20251026T010000
END:STANDARD
BEGIN:DAYLIGHT
TZOFFSETFROM:+0100
TZOFFSETTO:+0200
TZNAME:CEST
DTSTART:20260329T010000
END:DAYLIGHT
BEGIN:STANDARD
TZOFFSETFROM:+0200
TZOFFSETTO:+0100
TZNAME:CET
DTSTART:20261025T010000
END:STANDARD
BEGIN:DAYLIGHT
TZOFFSETFROM:+0100
TZOFFSETTO:+0200
TZNAME:CEST
DTSTART:20270328T010000
END:DAYLIGHT
BEGIN:STANDARD
TZOFFSETFROM:+0200
TZOFFSETTO:+0100
TZNAME:CET
DTSTART:20271031T010000
END:STANDARD
END:VTIMEZONE
BEGIN:VEVENT
DTSTART;TZID=Europe/Brussels:20260425T210000
DTEND;TZID=Europe/Brussels:20260426T030000
DTSTAMP:20260422T072657
CREATED:20260102T134127Z
LAST-MODIFIED:20260102T134149Z
UID:2824-1777150800-1777172400@unitedsportswear.eu
SUMMARY:SGF  - PUPS & HANDLERS
DESCRIPTION:
URL:https://unitedsportswear.eu/event/sgf-pups-handlers/
LOCATION:SGF Club\, fribourg\, Switzerland
CATEGORIES:SGF Swiss Gay Fetish
ATTACH;FMTTYPE=image/jpeg:https://unitedsportswear.eu/wp-content/uploads/event_693e7aebd45405.08155332.jpg
END:VEVENT
END:VCALENDAR